BEGIN:VCALENDAR
PRODID:-//kirchenweb.ch gmbh//veranstaltungsausgabe v2.0//DE
VERSION:2.0
METHOD:PUBLISH
BEGIN:VEVENT
DTSTART:20270804T070000Z
DTEND:20270804T080000Z
LOCATION:Begegnungsort\, Alte Landstrasse 91\, 8804 Au
TRANSP:OPAQUE
SEQUENCE:0
UID:25016-veranstaltung@kath-waedenswil.ch
DTSTAMP:20230824T124414Z
DESCRIPTION:Kontakt: josefina.camenzind@kath-waedenswil.ch\n\nWeitere
  Infos: https://www.kath-waedenswil.ch/veranstaltung/25016
SUMMARY:Tänzerische Gymnastik\, Frau Schranz
PRIORITY:5
X-MICROSOFT-CDO-IMPORTANCE:1
CLASS:PUBLIC
END:VEVENT
END:VCALENDAR
