BEGIN:VCALENDAR
PRODID:-//kirchenweb.ch gmbh//veranstaltungsausgabe v2.0//DE
VERSION:2.0
METHOD:PUBLISH
BEGIN:VEVENT
DTSTART:20260527T113000Z
DTEND:20260527T133000Z
LOCATION:Pfarramt St. Marien\, Etzelstrasse 3\, 8820 Wädenswil
TRANSP:OPAQUE
SEQUENCE:0
UID:30827-veranstaltung@kath-waedenswil.ch
DTSTAMP:20260129T080509Z
DESCRIPTION:Kontakt: Tomás Villagómez Vega\n\nWeitere Infos:
  https://www.kath-waedenswil.ch/veranstaltung/30827
SUMMARY:Religionsunterricht\, 4. Klasse
PRIORITY:5
X-MICROSOFT-CDO-IMPORTANCE:1
CLASS:PUBLIC
END:VEVENT
END:VCALENDAR
