BEGIN:VCALENDAR
PRODID:-//kirchenweb.ch gmbh//veranstaltungsausgabe v2.0//DE
VERSION:2.0
METHOD:PUBLISH
BEGIN:VEVENT
DTSTART:20260506T113000Z
DTEND:20260506T130000Z
LOCATION:Begegnungsort\, Alte Landstrasse 91\, 8804 Au
TRANSP:OPAQUE
SEQUENCE:0
UID:31224-veranstaltung@kath-waedenswil.ch
DTSTAMP:20260129T075134Z
DESCRIPTION:Kontakt: Tomás Villagómez Vega\n\nWeitere Infos:
  https://www.kath-waedenswil.ch/veranstaltung/31224
SUMMARY:Unti 1./2. Klasse
PRIORITY:5
X-MICROSOFT-CDO-IMPORTANCE:1
CLASS:PUBLIC
END:VEVENT
END:VCALENDAR
