BEGIN:VCALENDAR
PRODID:-//kirchenweb.ch gmbh//veranstaltungsausgabe v2.0//DE
VERSION:2.0
METHOD:PUBLISH
BEGIN:VEVENT
DTSTART:20260712T080000Z
DTEND:20260712T090000Z
LOCATION:Etzelzentrum\, Etzelstrasse 3\, 8820 Wädenswil
TRANSP:OPAQUE
SEQUENCE:0
UID:31824-veranstaltung@kath-waedenswil.ch
DTSTAMP:20250813T140620Z
DESCRIPTION:Kontakt: josefina.camenzind@kath-waedenswil.ch\n\nWeitere
  Infos: https://www.kath-waedenswil.ch/veranstaltung/31824
SUMMARY:Hl.Messe\, Grosser Etzelsaal
PRIORITY:5
X-MICROSOFT-CDO-IMPORTANCE:1
CLASS:PUBLIC
END:VEVENT
END:VCALENDAR
