BEGIN:VCALENDAR
PRODID:-//kirchenweb.ch gmbh//veranstaltungsausgabe v2.0//DE
VERSION:2.0
METHOD:PUBLISH
BEGIN:VEVENT
DTSTART:20260911T130000Z
DTEND:20260911T160000Z
LOCATION:Etzelzentrum\, Etzelstrasse 3\, 8820 Wädenswil
TRANSP:OPAQUE
SEQUENCE:0
UID:32123-veranstaltung@kath-waedenswil.ch
DTSTAMP:20250813T163311Z
DESCRIPTION:Kontakt: josefina.camenzind@kath-waedenswil.ch\n\nWeitere
  Infos: https://www.kath-waedenswil.ch/veranstaltung/32123
SUMMARY:Anbetung\, Etzelzentrum Grosser Saal
PRIORITY:5
X-MICROSOFT-CDO-IMPORTANCE:1
CLASS:PUBLIC
END:VEVENT
END:VCALENDAR
