BEGIN:VCALENDAR
PRODID:-//kirchenweb.ch gmbh//veranstaltungsausgabe v2.0//DE
VERSION:2.0
METHOD:PUBLISH
BEGIN:VEVENT
DTSTART:20261108T180000Z
DTEND:20261108T190000Z
LOCATION:Kapelle Bruder Klaus\, Alte Landstrasse 91\, 8804 Au
TRANSP:OPAQUE
SEQUENCE:0
UID:32417-veranstaltung@kath-waedenswil.ch
DTSTAMP:20250813T170151Z
DESCRIPTION:Kontakt: josefina.camenzind@kath-waedenswil.ch\n\nWeitere
  Infos: https://www.kath-waedenswil.ch/veranstaltung/32417
SUMMARY:Hl. Messe\, Bruder Klaus-Kapelle\, Au
PRIORITY:5
X-MICROSOFT-CDO-IMPORTANCE:1
CLASS:PUBLIC
END:VEVENT
END:VCALENDAR
