BEGIN:VCALENDAR
PRODID:-//kirchenweb.ch gmbh//veranstaltungsausgabe v2.0//DE
VERSION:2.0
METHOD:PUBLISH
BEGIN:VEVENT
DTSTART:20260618T080000Z
DTEND:20260618T090000Z
LOCATION:Gottesdienst Frohmatt\, \,
TRANSP:OPAQUE
SEQUENCE:0
UID:32809-veranstaltung@kath-waedenswil.ch
DTSTAMP:20250902T153512Z
DESCRIPTION:Kontakt: josefina.camenzind@kath-waedenswil.ch\n\nWeitere
  Infos: https://www.kath-waedenswil.ch/veranstaltung/32809
SUMMARY:Gottesdienst Frohmatt
PRIORITY:5
X-MICROSOFT-CDO-IMPORTANCE:1
CLASS:PUBLIC
END:VEVENT
END:VCALENDAR
