BEGIN:VCALENDAR
PRODID:-//kirchenweb.ch gmbh//veranstaltungsausgabe v2.0//DE
VERSION:2.0
METHOD:PUBLISH
BEGIN:VEVENT
DTSTART:20260616T073000Z
DTEND:20260616T090000Z
LOCATION:Pfarramt St. Marien\, Etzelstrasse 1\, 8820 Wädenswil
TRANSP:OPAQUE
SEQUENCE:0
UID:33095-veranstaltung@kath-waedenswil.ch
DTSTAMP:20251021T093022Z
DESCRIPTION:Kontakt: tomas.villagomez-vega\n\nWeitere Infos:
  https://www.kath-waedenswil.ch/veranstaltung/33095
SUMMARY:Krabbelfeier
PRIORITY:5
X-MICROSOFT-CDO-IMPORTANCE:1
CLASS:PUBLIC
END:VEVENT
END:VCALENDAR
