BEGIN:VCALENDAR
PRODID:-//kirchenweb.ch gmbh//veranstaltungsausgabe v2.0//DE
VERSION:2.0
METHOD:PUBLISH
BEGIN:VEVENT
DTSTART:20261109T184500Z
DTEND:20261109T201500Z
LOCATION:Etzelzentrum\, Etzelstrasse 3\, 8820 Wädenswil
TRANSP:OPAQUE
SEQUENCE:0
UID:33555-veranstaltung@kath-waedenswil.ch
DTSTAMP:20251122T142115Z
DESCRIPTION:Kontakt: Priska Lauper\n\nWeitere Infos:
  https://www.kath-waedenswil.ch/veranstaltung/33555
SUMMARY:Kirchenchor Probe
PRIORITY:5
X-MICROSOFT-CDO-IMPORTANCE:1
CLASS:PUBLIC
END:VEVENT
END:VCALENDAR
