BEGIN:VCALENDAR
PRODID:-//kirchenweb.ch gmbh//veranstaltungsausgabe v2.0//DE
VERSION:2.0
METHOD:PUBLISH
BEGIN:VEVENT
DTSTART:20270728T170000Z
DTEND:20270728T173000Z
LOCATION:Etzelzentrum\, Etzelstrasse 3\, 8820 Wädenswil
TRANSP:OPAQUE
SEQUENCE:0
UID:34294-veranstaltung@kath-waedenswil.ch
DTSTAMP:20251127T145825Z
DESCRIPTION:Kontakt: josefina.camenzind@kath-waedenswil.ch\n\nWeitere
  Infos: https://www.kath-waedenswil.ch/veranstaltung/34294
SUMMARY:Rosenkranzgebet\, Etzelzentrum Grosser Saal
PRIORITY:5
X-MICROSOFT-CDO-IMPORTANCE:1
CLASS:PUBLIC
END:VEVENT
END:VCALENDAR
