BEGIN:VCALENDAR
PRODID:-//kirchenweb.ch gmbh//veranstaltungsausgabe v2.0//DE
VERSION:2.0
METHOD:PUBLISH
BEGIN:VEVENT
DTSTART:20270814T160000Z
DTEND:20270814T170000Z
LOCATION:Pfarrkirche St. Marien\, Etzelstrasse 1\, 8820 Wädenswil
TRANSP:OPAQUE
SEQUENCE:0
UID:34404-veranstaltung@kath-waedenswil.ch
DTSTAMP:20251127T152206Z
DESCRIPTION:Kontakt: josefina.camenzind@kath-waedenswil.ch\n\nWeitere
  Infos: https://www.kath-waedenswil.ch/veranstaltung/34404
SUMMARY:Hl. Messe\, St. Marien
PRIORITY:5
X-MICROSOFT-CDO-IMPORTANCE:1
CLASS:PUBLIC
END:VEVENT
END:VCALENDAR
