BEGIN:VCALENDAR
PRODID:-//kirchenweb.ch gmbh//veranstaltungsausgabe v2.0//DE
VERSION:2.0
METHOD:PUBLISH
BEGIN:VEVENT
DTSTART:20270806T071500Z
DTEND:20270806T164500Z
LOCATION:Pfarrkirche St. Marien\, Etzelstrasse 1\, 8820 Wädenswil
TRANSP:OPAQUE
SEQUENCE:0
UID:34495-veranstaltung@kath-waedenswil.ch
DTSTAMP:20251127T154811Z
DESCRIPTION:Kontakt: josefina.camenzind@kath-waedenswil.ch\n\nWeitere
  Infos: https://www.kath-waedenswil.ch/veranstaltung/34495
SUMMARY:Anbetung\, Herz-Jesu-Freitag\, St. Marien
PRIORITY:5
X-MICROSOFT-CDO-IMPORTANCE:1
CLASS:PUBLIC
END:VEVENT
END:VCALENDAR
