BEGIN:VCALENDAR
PRODID:-//kirchenweb.ch gmbh//veranstaltungsausgabe v2.0//DE
VERSION:2.0
METHOD:PUBLISH
BEGIN:VEVENT
DTSTART:20260711T080000Z
DTEND:20260711T090000Z
LOCATION:Etzelzentrum\, Etzelstrasse 3\, 8820 Wädenswil
TRANSP:OPAQUE
SEQUENCE:0
UID:34641-veranstaltung@kath-waedenswil.ch
DTSTAMP:20260304T141615Z
DESCRIPTION:Kontakt: silvia.haemmerli@kath-waedenswil.ch\n\nWeitere Infos:
  https://www.kath-waedenswil.ch/veranstaltung/34641
SUMMARY:Taufsamstag
PRIORITY:5
X-MICROSOFT-CDO-IMPORTANCE:1
CLASS:PUBLIC
END:VEVENT
END:VCALENDAR
