BEGIN:VCALENDAR
PRODID:-//kirchenweb.ch gmbh//veranstaltungsausgabe v2.0//DE
VERSION:2.0
METHOD:PUBLISH
BEGIN:VEVENT
DTSTART:20260530T080000Z
DTEND:20260530T190000Z
LOCATION:Begegnungsort\, Alte Landstrasse 91\, 8804 Au
TRANSP:OPAQUE
SEQUENCE:0
UID:34856-veranstaltung@kath-waedenswil.ch
DTSTAMP:20260225T144708Z
DESCRIPTION:Kontakt: beat.wiederkehr@kath-waedenswil.ch\n\nWeitere Infos:
  https://www.kath-waedenswil.ch/veranstaltung/34856
SUMMARY:Alphalive Youth Weekend
PRIORITY:5
X-MICROSOFT-CDO-IMPORTANCE:1
CLASS:PUBLIC
END:VEVENT
END:VCALENDAR
