BEGIN:VCALENDAR
PRODID:-//kirchenweb.ch gmbh//veranstaltungsausgabe v2.0//DE
VERSION:2.0
METHOD:PUBLISH
BEGIN:VEVENT
DTSTART:20260525T080000Z
DTEND:20260525T090000Z
LOCATION:Pfarrkirche St. Marien\, Etzelstrasse 1\, 8820 Wädenswil
TRANSP:OPAQUE
SEQUENCE:0
UID:34867-veranstaltung@kath-waedenswil.ch
DTSTAMP:20260211T154628Z
DESCRIPTION:Kontakt: silvia.haemmerli@kath-waedenswil.ch\n\nWeitere Infos:
  https://www.kath-waedenswil.ch/veranstaltung/34867
SUMMARY:Hl. Messe\, Pfingstmontag
PRIORITY:5
X-MICROSOFT-CDO-IMPORTANCE:1
CLASS:PUBLIC
END:VEVENT
END:VCALENDAR
