BEGIN:VCALENDAR
PRODID:-//kirchenweb.ch gmbh//veranstaltungsausgabe v2.0//DE
VERSION:2.0
METHOD:PUBLISH
BEGIN:VEVENT
DTSTART:20260705T083000Z
DTEND:20260705T093000Z
LOCATION:Rosenmattpark (reformierte Kirche)\, Gessnerweg 5\, 8820
  Wädenswil
TRANSP:OPAQUE
SEQUENCE:0
UID:34868-veranstaltung@kath-waedenswil.ch
DTSTAMP:20260211T161103Z
DESCRIPTION:Kontakt: silvia.haemmerli@kath-waedenswil.ch\n\nWeitere Infos:
  https://www.kath-waedenswil.ch/veranstaltung/34868
SUMMARY:Ökum. Gottesdienst im Rosenhof
PRIORITY:5
X-MICROSOFT-CDO-IMPORTANCE:1
CLASS:PUBLIC
END:VEVENT
END:VCALENDAR
