BEGIN:VCALENDAR
PRODID:-//kirchenweb.ch gmbh//veranstaltungsausgabe v2.0//DE
VERSION:2.0
METHOD:PUBLISH
BEGIN:VEVENT
DTSTART:20260524T150000Z
DTEND:20260524T161500Z
LOCATION:Pfarrkirche St. Marien\, Etzelstrasse 1\, 8820 Wädenswil
TRANSP:OPAQUE
SEQUENCE:0
UID:34952-veranstaltung@kath-waedenswil.ch
DTSTAMP:20260416T063323Z
DESCRIPTION:«Lobe den Herrn\, meine Seele»\nKonzert zum Pfingstfest mit
  Werken von J.S. Bach\, J. van Eyck\, G.A. Homilius u.a.\n\nMarkus Meier\,
  Blockflöten und Schalmeien\nJohanna Jud\, Orgel und Gesang\n\nEintritt
  frei – Kollekte\n\nKontakt: Johanna Jud\n\nWeitere Infos:
  https://www.kath-waedenswil.ch/veranstaltung/34952
SUMMARY:Konzerte St. Marien
PRIORITY:5
X-MICROSOFT-CDO-IMPORTANCE:1
CLASS:PUBLIC
END:VEVENT
END:VCALENDAR
