BEGIN:VCALENDAR
PRODID:-//kirchenweb.ch gmbh//veranstaltungsausgabe v2.0//DE
VERSION:2.0
METHOD:PUBLISH
BEGIN:VEVENT
DTSTART:20260527T120000Z
DTEND:20260527T130000Z
LOCATION:Etzelzentrum\, Etzelstrasse 3\, 8820 Wädenswil
TRANSP:OPAQUE
SEQUENCE:0
UID:34972-veranstaltung@kath-waedenswil.ch
DTSTAMP:20260323T144437Z
DESCRIPTION:Kontakt: Carmen Mucklenbeck-Billeter\n\nWeitere Infos:
  https://www.kath-waedenswil.ch/veranstaltung/34972
SUMMARY:Speranza Food Abgabe
PRIORITY:5
X-MICROSOFT-CDO-IMPORTANCE:1
CLASS:PUBLIC
END:VEVENT
END:VCALENDAR
