BEGIN:VCALENDAR
PRODID:-//kirchenweb.ch gmbh//veranstaltungsausgabe v2.0//DE
VERSION:2.0
METHOD:PUBLISH
BEGIN:VEVENT
DTSTART:20260711T080000Z
DTEND:20260711T090000Z
LOCATION:St. Anna-Kapelle\, Weienschürweg\, 8820 Wädenswil
TRANSP:OPAQUE
SEQUENCE:0
UID:35073-veranstaltung@kath-waedenswil.ch
DTSTAMP:20260417T202623Z
DESCRIPTION:Kontakt: beat.wiederkehr@kath-waedenswil.ch\n\nWeitere Infos:
  https://www.kath-waedenswil.ch/veranstaltung/35073
SUMMARY:Tauffeier für Loumea Sea Grecco
PRIORITY:5
X-MICROSOFT-CDO-IMPORTANCE:1
CLASS:PUBLIC
END:VEVENT
END:VCALENDAR
