BEGIN:VCALENDAR
PRODID:-//kirchenweb.ch gmbh//veranstaltungsausgabe v2.0//DE
VERSION:2.0
METHOD:PUBLISH
BEGIN:VEVENT
DTSTART:20260908T133000Z
DTEND:20260908T150000Z
LOCATION:Etzelzentrum\, Etzelstrasse 3\, 8820 Wädenswil
TRANSP:OPAQUE
SEQUENCE:0
UID:35108-veranstaltung@kath-waedenswil.ch
DTSTAMP:20260424T140722Z
DESCRIPTION:Kontakt: tomas.villagomez-vega\n\nWeitere Infos:
  https://www.kath-waedenswil.ch/veranstaltung/35108
SUMMARY:Unti\, 2. Klasse Wädenswil
PRIORITY:5
X-MICROSOFT-CDO-IMPORTANCE:1
CLASS:PUBLIC
END:VEVENT
END:VCALENDAR
